BEGIN:VCALENDAR
VERSION:2.0
PRODID: -//Q4 Inc.//EN
METHOD:PUBLISH
BEGIN:VTIMEZONE
TZID:America/New_York
X-LIC-LOCATION:America/New_York
BEGIN:DAYLIGHT
TZOFFSETFROM:-0500
TZOFFSETTO:-0400
TZNAME:EDT
DTSTART:19700308T020000
RRULE:FREQ=YEARLY;BYMONTH=3;BYDAY=2SU
END:DAYLIGHT
BEGIN:STANDARD
TZOFFSETFROM:-0400
TZOFFSETTO:-0500
TZNAME:EST
DTSTART:19701101T020000
RRULE:FREQ=YEARLY;BYMONTH=11;BYDAY=1SU
END:STANDARD
END:VTIMEZONE
BEGIN:VEVENT
ORGANIZER:MAILTO:info@riocan.com
DTSTART;TZID="America/New_York":20080212T000000
DTEND;TZID="America/New_York":20080212T000000
LOCATION:
UID:bda37964-8486-4e8e-be65-1b2f503c5a3f
DTSTAMP:20260420T012756
SUMMARY:February 12, 2008Q4 and Year-end 2007 Webcast
DESCRIPTION: View More Information: http://events.onlinebroadcasting.com/riocan/021208/index.php
URL;VALUE=URI:http://events.onlinebroadcasting.com/riocan/021208/index.php
PRIORITY:5
CLASS:PUBLIC
END:VEVENT
END:VCALENDAR
