BEGIN:VCALENDAR
VERSION:2.0
PRODID: -//Q4 Inc.//EN
METHOD:PUBLISH
BEGIN:VTIMEZONE
TZID:America/New_York
X-LIC-LOCATION:America/New_York
BEGIN:DAYLIGHT
TZOFFSETFROM:-0500
TZOFFSETTO:-0400
TZNAME:EDT
DTSTART:19700308T020000
RRULE:FREQ=YEARLY;BYMONTH=3;BYDAY=2SU
END:DAYLIGHT
BEGIN:STANDARD
TZOFFSETFROM:-0400
TZOFFSETTO:-0500
TZNAME:EST
DTSTART:19701101T020000
RRULE:FREQ=YEARLY;BYMONTH=11;BYDAY=1SU
END:STANDARD
END:VTIMEZONE
BEGIN:VEVENT
ORGANIZER:MAILTO:info@riocan.com
DTSTART;TZID="America/New_York":20110527T140000
DTEND;TZID="America/New_York":20110625T140000
LOCATION:
UID:500b8bbc-54d8-4bcd-89b3-bddd22c7fde2
DTSTAMP:20260419T224107
SUMMARY:Update on Target Dial In #: 416-695-7806 or 888-789-9572 Passcode 4766003#
DESCRIPTION: View More Information: https://www.riocan.com/English/investors/events-and-presentations/event-details/2011/Update-on-Target-Dial-In--416-695-7806-or-888-789-9572-Passcode-4766003/default.aspx
URL;VALUE=URI:https://www.riocan.com/English/investors/events-and-presentations/event-details/2011/Update-on-Target-Dial-In--416-695-7806-or-888-789-9572-Passcode-4766003/default.aspx
PRIORITY:5
CLASS:PUBLIC
END:VEVENT
END:VCALENDAR
