BEGIN:VCALENDAR
VERSION:2.0
PRODID: -//Q4 Inc.//EN
METHOD:PUBLISH
BEGIN:VTIMEZONE
TZID:America/New_York
X-LIC-LOCATION:America/New_York
BEGIN:DAYLIGHT
TZOFFSETFROM:-0500
TZOFFSETTO:-0400
TZNAME:EDT
DTSTART:19700308T020000
RRULE:FREQ=YEARLY;BYMONTH=3;BYDAY=2SU
END:DAYLIGHT
BEGIN:STANDARD
TZOFFSETFROM:-0400
TZOFFSETTO:-0500
TZNAME:EST
DTSTART:19701101T020000
RRULE:FREQ=YEARLY;BYMONTH=11;BYDAY=1SU
END:STANDARD
END:VTIMEZONE
BEGIN:VEVENT
ORGANIZER:MAILTO:info@riocan.com
DTSTART;TZID="America/New_York":20120214T000000
DTEND;TZID="America/New_York":20120214T000000
LOCATION:
UID:f36023b8-f9d9-4cc8-a191-c6f26115a565
DTSTAMP:20260420T000613
SUMMARY:Q4 & Year End Conference Call
DESCRIPTION: View More Information: https://www.riocan.com/English/investors/events-and-presentations/event-details/2012/Q4--Year-End-Conference-Call/default.aspx
URL;VALUE=URI:https://www.riocan.com/English/investors/events-and-presentations/event-details/2012/Q4--Year-End-Conference-Call/default.aspx
PRIORITY:5
CLASS:PUBLIC
END:VEVENT
END:VCALENDAR
