BEGIN:VCALENDAR
VERSION:2.0
PRODID: -//Q4 Inc.//EN
METHOD:PUBLISH
BEGIN:VTIMEZONE
TZID:America/New_York
X-LIC-LOCATION:America/New_York
BEGIN:DAYLIGHT
TZOFFSETFROM:-0500
TZOFFSETTO:-0400
TZNAME:EDT
DTSTART:19700308T020000
RRULE:FREQ=YEARLY;BYMONTH=3;BYDAY=2SU
END:DAYLIGHT
BEGIN:STANDARD
TZOFFSETFROM:-0400
TZOFFSETTO:-0500
TZNAME:EST
DTSTART:19701101T020000
RRULE:FREQ=YEARLY;BYMONTH=11;BYDAY=1SU
END:STANDARD
END:VTIMEZONE
BEGIN:VEVENT
ORGANIZER:MAILTO:info@riocan.com
DTSTART;TZID="America/New_York":20130605T100000
DTEND;TZID="America/New_York":20130605T100000
LOCATION:
UID:4ccb55b4-2b70-4caa-875b-84c699137d26
DTSTAMP:20260419T223950
SUMMARY:2013 RioCan Annual and Special Meeting
DESCRIPTION: View More Information: https://www.riocan.com/English/investors/events-and-presentations/event-details/2013/2013-RioCan-Annual-and-Special-Meeting/default.aspx
URL;VALUE=URI:https://www.riocan.com/English/investors/events-and-presentations/event-details/2013/2013-RioCan-Annual-and-Special-Meeting/default.aspx
PRIORITY:5
CLASS:PUBLIC
END:VEVENT
END:VCALENDAR
