BEGIN:VCALENDAR
VERSION:2.0
PRODID: -//Q4 Inc.//EN
METHOD:PUBLISH
BEGIN:VTIMEZONE
TZID:America/New_York
X-LIC-LOCATION:America/New_York
BEGIN:DAYLIGHT
TZOFFSETFROM:-0500
TZOFFSETTO:-0400
TZNAME:EDT
DTSTART:19700308T020000
RRULE:FREQ=YEARLY;BYMONTH=3;BYDAY=2SU
END:DAYLIGHT
BEGIN:STANDARD
TZOFFSETFROM:-0400
TZOFFSETTO:-0500
TZNAME:EST
DTSTART:19701101T020000
RRULE:FREQ=YEARLY;BYMONTH=11;BYDAY=1SU
END:STANDARD
END:VTIMEZONE
BEGIN:VEVENT
ORGANIZER:MAILTO:info@riocan.com
DTSTART;TZID="America/New_York":20190212T100000
DTEND;TZID="America/New_York":20190212T100000
LOCATION:
UID:9d0e7da6-4b4f-49d6-a0e8-c5a27015eaad
DTSTAMP:20260419T224050
SUMMARY:Fourth Quarter Earnings Conference Call and Webcast
DESCRIPTION: View More Information: https://www.riocan.com/English/investors/events-and-presentations/event-details/2019/Fourth-Quarter-Earnings-Conference-Call-and-Webcast/default.aspx
URL;VALUE=URI:https://www.riocan.com/English/investors/events-and-presentations/event-details/2019/Fourth-Quarter-Earnings-Conference-Call-and-Webcast/default.aspx
PRIORITY:5
CLASS:PUBLIC
END:VEVENT
END:VCALENDAR
