BEGIN:VCALENDAR
VERSION:2.0
PRODID: -//Q4 Inc.//EN
METHOD:PUBLISH
BEGIN:VTIMEZONE
TZID:America/New_York
X-LIC-LOCATION:America/New_York
BEGIN:DAYLIGHT
TZOFFSETFROM:-0500
TZOFFSETTO:-0400
TZNAME:EDT
DTSTART:19700308T020000
RRULE:FREQ=YEARLY;BYMONTH=3;BYDAY=2SU
END:DAYLIGHT
BEGIN:STANDARD
TZOFFSETFROM:-0400
TZOFFSETTO:-0500
TZNAME:EST
DTSTART:19701101T020000
RRULE:FREQ=YEARLY;BYMONTH=11;BYDAY=1SU
END:STANDARD
END:VTIMEZONE
BEGIN:VEVENT
ORGANIZER:MAILTO:info@riocan.com
DTSTART;TZID="America/New_York":20260218T100000
DTEND;TZID="America/New_York":20260218T110000
LOCATION:
UID:fac012b9-2879-4787-9839-240f5545951f
DTSTAMP:20260420T035652
SUMMARY:Fourth Quarter Earnings Conference Call and Webcast
DESCRIPTION: View More Information: https://www.riocan.com/French/investisseurs/evenements-et-presentations/details-de-levenement/2026/Fourth-Quarter-Earnings-Conference-Call-and-Webcast/default.aspx
URL;VALUE=URI:https://www.riocan.com/French/investisseurs/evenements-et-presentations/details-de-levenement/2026/Fourth-Quarter-Earnings-Conference-Call-and-Webcast/default.aspx
PRIORITY:5
CLASS:PUBLIC
END:VEVENT
END:VCALENDAR
