BEGIN:VCALENDAR
VERSION:2.0
PRODID: -//Q4 Inc.//EN
METHOD:PUBLISH
BEGIN:VTIMEZONE
TZID:America/New_York
X-LIC-LOCATION:America/New_York
BEGIN:DAYLIGHT
TZOFFSETFROM:-0500
TZOFFSETTO:-0400
TZNAME:EDT
DTSTART:19700308T020000
RRULE:FREQ=YEARLY;BYMONTH=3;BYDAY=2SU
END:DAYLIGHT
BEGIN:STANDARD
TZOFFSETFROM:-0400
TZOFFSETTO:-0500
TZNAME:EST
DTSTART:19701101T020000
RRULE:FREQ=YEARLY;BYMONTH=11;BYDAY=1SU
END:STANDARD
END:VTIMEZONE
BEGIN:VEVENT
ORGANIZER:MAILTO:info@riocan.com
DTSTART;TZID="America/New_York":20240809T100000
DTEND;TZID="America/New_York":20240809T110000
LOCATION:
UID:d2ce64da-9520-4104-9741-f3d7240c937f
DTSTAMP:20260419T224241
SUMMARY:Second Quarter Earnings Conference Call and Webcast
DESCRIPTION: View More Information: https://www.riocan.com/English/investors/events-and-presentations/event-details/2024/Second-Quarter-Earnings-Conference-Call-and-Webcast/default.aspx
URL;VALUE=URI:https://www.riocan.com/English/investors/events-and-presentations/event-details/2024/Second-Quarter-Earnings-Conference-Call-and-Webcast/default.aspx
PRIORITY:5
CLASS:PUBLIC
END:VEVENT
END:VCALENDAR
